BEGIN:VCALENDAR
VERSION:2.0
PRODID:-//Feathermane Soul - ECPv6.15.20//NONSGML v1.0//EN
CALSCALE:GREGORIAN
METHOD:PUBLISH
X-ORIGINAL-URL:https://feathermanesoul.com
X-WR-CALDESC:Events for Feathermane Soul
REFRESH-INTERVAL;VALUE=DURATION:PT1H
X-Robots-Tag:noindex
X-PUBLISHED-TTL:PT1H
BEGIN:VTIMEZONE
TZID:America/Chicago
BEGIN:DAYLIGHT
TZOFFSETFROM:-0600
TZOFFSETTO:-0500
TZNAME:CDT
DTSTART:20250309T080000
END:DAYLIGHT
BEGIN:STANDARD
TZOFFSETFROM:-0500
TZOFFSETTO:-0600
TZNAME:CST
DTSTART:20251102T070000
END:STANDARD
BEGIN:DAYLIGHT
TZOFFSETFROM:-0600
TZOFFSETTO:-0500
TZNAME:CDT
DTSTART:20260308T080000
END:DAYLIGHT
BEGIN:STANDARD
TZOFFSETFROM:-0500
TZOFFSETTO:-0600
TZNAME:CST
DTSTART:20261101T070000
END:STANDARD
BEGIN:DAYLIGHT
TZOFFSETFROM:-0600
TZOFFSETTO:-0500
TZNAME:CDT
DTSTART:20270314T080000
END:DAYLIGHT
BEGIN:STANDARD
TZOFFSETFROM:-0500
TZOFFSETTO:-0600
TZNAME:CST
DTSTART:20271107T070000
END:STANDARD
END:VTIMEZONE
BEGIN:VEVENT
DTSTART;TZID=America/Chicago:20260816T120000
DTEND;TZID=America/Chicago:20260816T133000
DTSTAMP:20260420T133114
CREATED:20260419T205206Z
LAST-MODIFIED:20260420T174443Z
UID:10000250-1786881600-1786887000@feathermanesoul.com
SUMMARY:August 2026 Pagan Pet Grief Circle
DESCRIPTION:Join us on the 3rd Sunday of each month from noon to 2pm central time (US) as we discuss the process of pet grief. \nThis circle is for anyone who is pagan-identified or pagan-friendly who is dealing with the loss (or potential/impending loss) of a beloved companion animal. All species of animals are welcome in this space and may include animals that we have lost who we felt a special connection with\, even if they weren’t our personal pets. (For example\, famous zoo animals or known animal welfare or online animal figures.) \nThe circle is virtual and donation based as you are able. We also welcome those who are unable to monetarily support the circle at this time. \nI reserve the right to record the beginning of the meeting where I start with a short talk and/or reading\, but the rest of the circle will NOT be recorded. The only replay that will be shared will be my beginning portion of the meeting. \n 
URL:https://feathermanesoul.com/event/0826pagan/
LOCATION:Virtual Web Conference
CATEGORIES:Pagan Pet Grief Circle
ATTACH;FMTTYPE=image/jpeg:https://feathermanesoul.com/wp-content/uploads/2026/04/pagan-pet-loss-gen-image.jpg
END:VEVENT
END:VCALENDAR