BEGIN:VCALENDAR
VERSION:2.0
PRODID:-//Feathermane Soul - ECPv6.15.20//NONSGML v1.0//EN
CALSCALE:GREGORIAN
METHOD:PUBLISH
X-ORIGINAL-URL:https://feathermanesoul.com
X-WR-CALDESC:Events for Feathermane Soul
REFRESH-INTERVAL;VALUE=DURATION:PT1H
X-Robots-Tag:noindex
X-PUBLISHED-TTL:PT1H
BEGIN:VTIMEZONE
TZID:America/Chicago
BEGIN:DAYLIGHT
TZOFFSETFROM:-0600
TZOFFSETTO:-0500
TZNAME:CDT
DTSTART:20250309T080000
END:DAYLIGHT
BEGIN:STANDARD
TZOFFSETFROM:-0500
TZOFFSETTO:-0600
TZNAME:CST
DTSTART:20251102T070000
END:STANDARD
BEGIN:DAYLIGHT
TZOFFSETFROM:-0600
TZOFFSETTO:-0500
TZNAME:CDT
DTSTART:20260308T080000
END:DAYLIGHT
BEGIN:STANDARD
TZOFFSETFROM:-0500
TZOFFSETTO:-0600
TZNAME:CST
DTSTART:20261101T070000
END:STANDARD
BEGIN:DAYLIGHT
TZOFFSETFROM:-0600
TZOFFSETTO:-0500
TZNAME:CDT
DTSTART:20270314T080000
END:DAYLIGHT
BEGIN:STANDARD
TZOFFSETFROM:-0500
TZOFFSETTO:-0600
TZNAME:CST
DTSTART:20271107T070000
END:STANDARD
END:VTIMEZONE
BEGIN:VEVENT
DTSTART;TZID=America/Chicago:20260721T140000
DTEND;TZID=America/Chicago:20260721T153000
DTSTAMP:20260420T222118
CREATED:20260419T203349Z
LAST-MODIFIED:20260420T174610Z
UID:10000188-1784642400-1784647800@feathermanesoul.com
SUMMARY:July 2026 Neurodivergent Grief Circle
DESCRIPTION:On the 3rd Tuesday of each month from 2pm to 3:30 pm Central Time (US) we’ll gather and support one another. Living as a neurodivergent individual in this world isn’t easy\, and there often is grief associated with diagnosis and daily living. Each meeting will begin with a short talk and reading\, and then the floor will be opened for individuals to share/ask questions as they desire and we’ll discuss navigating the process of grief while also being neurodivergent. \nThis circle is for anyone who is under the large umbrella of neurodivergent\, which includes both self-identified as well as diagnosed individuals. We welcome anyone who is considered neurodivergent either from birth or acquired. There is not an exhaustive list of neurodivergent conditions\, but our goal is to be as inclusive as possible. \nThe neurodivergent “umbrella” includes\, but is certainly not limited to: Autism\, ADHD\, Bipolar\, Plurality\, cPTSD\, Epilepsy\, Dysgraphia\, Tourettes\, TBI\, Synesthesia\, DID & OSDD\, OCD\, Anxiety\, Dyspraxia\, Intellectual Disabilities\, Cerebral Palsy\, Dyscalculia\, Schizophrenia\, Personality Disorders\, and more. I ask that within this circle we respect each other and honor everyone’s lived experience. If you have questions or concerns\, I encourage you to reach out using the contact link. \nThe circle is virtual and donation based as you are able. We also welcome those who are unable to monetarily support the circle at this time. \nI reserve the right to record the beginning of the meeting where I start with a short talk and/or reading\, but the rest of the circle will NOT be recorded. The only replay that will be shared will be my beginning portion of the meeting.
URL:https://feathermanesoul.com/event/0726-neurodivergent-grief-circle/
LOCATION:Virtual Web Conference
CATEGORIES:Neurodivergent Grief Circle
END:VEVENT
END:VCALENDAR